BEGIN:VCALENDAR
VERSION:2.0
PRODID:-//מטרות | המרכז הבינלאומי ללימודי NLP - ECPv5.6.0//NONSGML v1.0//EN
CALSCALE:GREGORIAN
METHOD:PUBLISH
X-WR-CALNAME:מטרות | המרכז הבינלאומי ללימודי NLP
X-ORIGINAL-URL:https://www.matarot-nlp.co.il
X-WR-CALDESC:Events for מטרות | המרכז הבינלאומי ללימודי NLP
BEGIN:VTIMEZONE
TZID:Asia/Jerusalem
BEGIN:DAYLIGHT
TZOFFSETFROM:+0200
TZOFFSETTO:+0300
TZNAME:IDT
DTSTART:20210326T000000
END:DAYLIGHT
BEGIN:STANDARD
TZOFFSETFROM:+0300
TZOFFSETTO:+0200
TZNAME:IST
DTSTART:20211030T230000
END:STANDARD
END:VTIMEZONE
BEGIN:VEVENT
DTSTART;TZID=Asia/Jerusalem:20210718T090000
DTEND;TZID=Asia/Jerusalem:20210720T170000
DTSTAMP:20210523T021059
CREATED:20210311T114940Z
LAST-MODIFIED:20210311T114940Z
UID:354049-1626598800-1626800400@www.matarot-nlp.co.il
SUMMARY:השתלמות קו זמן מלא
DESCRIPTION:קו זמן מלא
URL:https://www.matarot-nlp.co.il/event/%d7%94%d7%a9%d7%aa%d7%9c%d7%9e%d7%95%d7%aa-%d7%a7%d7%95-%d7%96%d7%9e%d7%9f-%d7%9e%d7%9c%d7%90/
END:VEVENT
END:VCALENDAR