BEGIN:VCALENDAR
VERSION:2.0
PRODID:-//מטרות | המרכז הבינלאומי ללימודי NLP - ECPv5.6.0//NONSGML v1.0//EN
CALSCALE:GREGORIAN
METHOD:PUBLISH
X-WR-CALNAME:מטרות | המרכז הבינלאומי ללימודי NLP
X-ORIGINAL-URL:https://www.matarot-nlp.co.il
X-WR-CALDESC:Events for מטרות | המרכז הבינלאומי ללימודי NLP
BEGIN:VTIMEZONE
TZID:Asia/Jerusalem
BEGIN:DAYLIGHT
TZOFFSETFROM:+0200
TZOFFSETTO:+0300
TZNAME:IDT
DTSTART:20210326T000000
END:DAYLIGHT
BEGIN:STANDARD
TZOFFSETFROM:+0300
TZOFFSETTO:+0200
TZNAME:IST
DTSTART:20211030T230000
END:STANDARD
END:VTIMEZONE
BEGIN:VEVENT
DTSTART;TZID=Asia/Jerusalem:20210609T090000
DTEND;TZID=Asia/Jerusalem:20210609T140000
DTSTAMP:20210523T020703
CREATED:20210218T115940Z
LAST-MODIFIED:20210510T105637Z
UID:353971-1623229200-1623247200@www.matarot-nlp.co.il
SUMMARY:חרדות טראומות ודיכאון
DESCRIPTION:חרדות טראומות ודיכאון
URL:https://www.matarot-nlp.co.il/event/%d7%97%d7%a8%d7%93%d7%95%d7%aa-%d7%98%d7%a8%d7%90%d7%95%d7%9e%d7%95%d7%aa-%d7%95%d7%90%d7%95%d7%91%d7%93%d7%9f/
END:VEVENT
END:VCALENDAR