BEGIN:VCALENDAR
VERSION:2.0
PRODID:-//מטרות | המרכז הבינלאומי ללימודי NLP - ECPv5.6.0//NONSGML v1.0//EN
CALSCALE:GREGORIAN
METHOD:PUBLISH
X-WR-CALNAME:מטרות | המרכז הבינלאומי ללימודי NLP
X-ORIGINAL-URL:https://www.matarot-nlp.co.il
X-WR-CALDESC:Events for מטרות | המרכז הבינלאומי ללימודי NLP
BEGIN:VTIMEZONE
TZID:UTC
BEGIN:STANDARD
TZOFFSETFROM:+0000
TZOFFSETTO:+0000
TZNAME:UTC
DTSTART:20190101T000000
END:STANDARD
END:VTIMEZONE
BEGIN:VEVENT
DTSTART;TZID=UTC:20191027T090000
DTEND;TZID=UTC:20191029T170000
DTSTAMP:20210523T021235
CREATED:20181206T140813Z
LAST-MODIFIED:20190905T032845Z
UID:351882-1572166800-1572368400@www.matarot-nlp.co.il
SUMMARY:סדנת טכניקות מבוססות קו זמן | כפר סבא
DESCRIPTION:3 ימים רצופים\, ראשון עד שלישי בשעות 09:00-17:00 
URL:https://www.matarot-nlp.co.il/event/%d7%a1%d7%93%d7%a0%d7%aa-%d7%98%d7%9b%d7%a0%d7%99%d7%a7%d7%95%d7%aa-%d7%9e%d7%91%d7%95%d7%a1%d7%a1%d7%95%d7%aa-%d7%a7%d7%95-%d7%96%d7%9e%d7%9f-%d7%9b%d7%a4%d7%a8-%d7%a1%d7%91%d7%90-2/
LOCATION:כפר סבא – מכללת מטרות ללימודי NLP\, הנגר 6\, כפר סבא\, Israel
END:VEVENT
END:VCALENDAR